BEGIN:VCALENDAR
VERSION:2.0
PRODID:-//Contratero//ES
CALSCALE:GREGORIAN
METHOD:PUBLISH
BEGIN:VEVENT
UID:DTC-302/2022 - 47@contratero.es
DTSTAMP:20260421T132703Z
DTSTART:20251107T235959
DTEND:20251108T005959
SUMMARY:Cierre: Pedido 47: Acuerdo Marco Para El Suministro E Inst
DESCRIPTION:Pedido 47: Acuerdo Marco Para El Suministro E Instalación De Equipamiento Sipa 2023-2026\\n\\nOrganismo: Aena. Consejo de Administración\\n\\nVer en Contratero: https://contratero.es/contracts/DTC-302/2022 - 47
URL:https://contratero.es/contracts/DTC-302/2022 - 47
STATUS:CONFIRMED
BEGIN:VALARM
TRIGGER:-P1D
ACTION:DISPLAY
DESCRIPTION:Recordatorio: Pedido 47: Acuerdo Marco Para 
END:VALARM
END:VEVENT
END:VCALENDAR